BEGIN:VCALENDAR
VERSION:2.0
PRODID:-//Douglas County Historical Society - ECPv6.15.17.1//NONSGML v1.0//EN
CALSCALE:GREGORIAN
METHOD:PUBLISH
X-ORIGINAL-URL:https://historicnv.org
X-WR-CALDESC:Events for Douglas County Historical Society
REFRESH-INTERVAL;VALUE=DURATION:PT1H
X-Robots-Tag:noindex
X-PUBLISHED-TTL:PT1H
BEGIN:VTIMEZONE
TZID:UTC
BEGIN:STANDARD
TZOFFSETFROM:+0000
TZOFFSETTO:+0000
TZNAME:UTC
DTSTART:20240101T000000
END:STANDARD
END:VTIMEZONE
BEGIN:VEVENT
DTSTART;TZID=UTC:20250313T183000
DTEND;TZID=UTC:20250313T200000
DTSTAMP:20260425T142515
CREATED:20250221T205700Z
LAST-MODIFIED:20250221T205700Z
UID:2433-1741890600-1741896000@historicnv.org
SUMMARY:Heritage Lecture Series
DESCRIPTION:Thursday\, March 13\nPlease join us at the Carson Valley Museum & Cultural Center in Gardnerville\, NV for our Heritage Lecture Series.  Lecturer TBD\nDoors Open at 6:00 p.m. Lecture Begins at 6:30 p.m.\n$5.00 at the door\nAlpine\, Dayton\, Smith Valley\, and DCHS Historical Society FREE
URL:https://historicnv.org/event/heritage-lecture-series-8/
LOCATION:CVM&CC
END:VEVENT
END:VCALENDAR