BEGIN:VCALENDAR
VERSION:2.0
PRODID:-//Douglas County Historical Society - ECPv6.15.17.1//NONSGML v1.0//EN
CALSCALE:GREGORIAN
METHOD:PUBLISH
X-ORIGINAL-URL:https://historicnv.org
X-WR-CALDESC:Events for Douglas County Historical Society
REFRESH-INTERVAL;VALUE=DURATION:PT1H
X-Robots-Tag:noindex
X-PUBLISHED-TTL:PT1H
BEGIN:VTIMEZONE
TZID:UTC
BEGIN:STANDARD
TZOFFSETFROM:+0000
TZOFFSETTO:+0000
TZNAME:UTC
DTSTART:20240101T000000
END:STANDARD
END:VTIMEZONE
BEGIN:VEVENT
DTSTART;TZID=UTC:20250322T120000
DTEND;TZID=UTC:20250322T150000
DTSTAMP:20260425T142516
CREATED:20241212T204437Z
LAST-MODIFIED:20250319T204431Z
UID:2282-1742644800-1742655600@historicnv.org
SUMMARY:Women In History
DESCRIPTION:Women in history \nWomen In History\nSaturday\, March 22\nDoors open at 1 p.m. Program begins at 2 p.m.\nCelebrate Women’s History Month!\nJoin us as we honor the remarkable women of Douglas County who have made a lasting impact on our community. This special presentation highlights their contributions to enhancing the quality of life in our area and recognizes their role in shaping our shared history.\nMarch is Women’s History Month\, established by Congress in 1987 to encourage the study\, observance\, and celebration of the vital role women play in American history. Don’t miss this opportunity to celebrate the achievements and legacy of the incredible women who inspire us all.
URL:https://historicnv.org/event/2282/
LOCATION:CVM&CC
END:VEVENT
END:VCALENDAR