BEGIN:VCALENDAR
VERSION:2.0
PRODID:-//Douglas County Historical Society - ECPv6.15.17.1//NONSGML v1.0//EN
CALSCALE:GREGORIAN
METHOD:PUBLISH
X-ORIGINAL-URL:https://historicnv.org
X-WR-CALDESC:Events for Douglas County Historical Society
REFRESH-INTERVAL;VALUE=DURATION:PT1H
X-Robots-Tag:noindex
X-PUBLISHED-TTL:PT1H
BEGIN:VTIMEZONE
TZID:UTC
BEGIN:STANDARD
TZOFFSETFROM:+0000
TZOFFSETTO:+0000
TZNAME:UTC
DTSTART:20240101T000000
END:STANDARD
END:VTIMEZONE
BEGIN:VEVENT
DTSTART;TZID=UTC:20250508T063000
DTEND;TZID=UTC:20250508T200000
DTSTAMP:20260425T104435
CREATED:20250423T191031Z
LAST-MODIFIED:20250423T191031Z
UID:2489-1746685800-1746734400@historicnv.org
SUMMARY:Heritage Lecture Series with Tami Force
DESCRIPTION:Thursday\, May 8\nTami Force will share her journals and photography chronicling Nevada’s history and outback.\nDoors Open at 6:00 p.m. Lecture Begins at  6:30 p.m.\n$5.00 at the door.  Free Admission to Alpine\, Dayton\, Smith Valley\, and\nDCHS Historical Society members.
URL:https://historicnv.org/event/heritage-lecture-series-with-tami-force/
LOCATION:CVM&CC
END:VEVENT
END:VCALENDAR