BEGIN:VCALENDAR
VERSION:2.0
PRODID:-//Douglas County Historical Society - ECPv6.15.17.1//NONSGML v1.0//EN
CALSCALE:GREGORIAN
METHOD:PUBLISH
X-ORIGINAL-URL:https://historicnv.org
X-WR-CALDESC:Events for Douglas County Historical Society
REFRESH-INTERVAL;VALUE=DURATION:PT1H
X-Robots-Tag:noindex
X-PUBLISHED-TTL:PT1H
BEGIN:VTIMEZONE
TZID:UTC
BEGIN:STANDARD
TZOFFSETFROM:+0000
TZOFFSETTO:+0000
TZNAME:UTC
DTSTART:20240101T000000
END:STANDARD
END:VTIMEZONE
BEGIN:VEVENT
DTSTART;TZID=UTC:20250515T163000
DTEND;TZID=UTC:20250515T193000
DTSTAMP:20260425T104512
CREATED:20250109T181020Z
LAST-MODIFIED:20250109T181213Z
UID:2341-1747326600-1747337400@historicnv.org
SUMMARY:Third Thursday Wine Walk
DESCRIPTION:Third Thursday Wine Walk\nJoin us at the Carson Valley Museum & Cultural Center for the Third Thursday Wine Walk! Happening on the third Thursday of each month from May through September\, this event is your chance to sip and support our local downtown merchants and businesses\, enjoy delicious tastings\, and experience the charm of our community.\nThe walk runs from 4:30 to 7:30 p.m. – a perfect way to unwind\, connect\, and savor the evening. Cheers!
URL:https://historicnv.org/event/2341/
LOCATION:CVM&CC
END:VEVENT
END:VCALENDAR