BEGIN:VCALENDAR
VERSION:2.0
PRODID:-//Douglas County Historical Society - ECPv6.15.17.1//NONSGML v1.0//EN
CALSCALE:GREGORIAN
METHOD:PUBLISH
X-ORIGINAL-URL:https://historicnv.org
X-WR-CALDESC:Events for Douglas County Historical Society
REFRESH-INTERVAL;VALUE=DURATION:PT1H
X-Robots-Tag:noindex
X-PUBLISHED-TTL:PT1H
BEGIN:VTIMEZONE
TZID:UTC
BEGIN:STANDARD
TZOFFSETFROM:+0000
TZOFFSETTO:+0000
TZNAME:UTC
DTSTART:20240101T000000
END:STANDARD
END:VTIMEZONE
BEGIN:VEVENT
DTSTART;TZID=UTC:20251009T180000
DTEND;TZID=UTC:20251009T200000
DTSTAMP:20260422T085238
CREATED:20250821T181835Z
LAST-MODIFIED:20250821T182002Z
UID:2558-1760032800-1760040000@historicnv.org
SUMMARY:Heritage Lecture with Sharon DeCarlo
DESCRIPTION:Heritage Lecture Series\nOctober 9\, 2025\nPlease join at the Carson Valley Museum & Cultural Center as we welcome Sharon DeCarlo who will be speaking about Will James\, a famous Nevada Cowboy\, Artist and Author. Mr. James spent time in Saskatchewan and Montana before settling in Nevada\, where he worked as a cowboy and began drawing and writing.  His experiences in Nevada\, including a stint in prison for cattle rustling\, shaped his understanding of the cowboy life and fueled his creative output. \nDoors Open at 6:00 p.m.  Lecture Begins at 6:30 p.m.\n$5.00 at the door. \nFree Admission to Alpine\, Dayton\, Smith Valley\, and DCHS Historical Society members.
URL:https://historicnv.org/event/heritage-lecture-with-sharon-decarlo/
LOCATION:CVM&CC
END:VEVENT
END:VCALENDAR