BEGIN:VCALENDAR
VERSION:2.0
PRODID:-//Douglas County Historical Society - ECPv6.15.17.1//NONSGML v1.0//EN
CALSCALE:GREGORIAN
METHOD:PUBLISH
X-WR-CALNAME:Douglas County Historical Society
X-ORIGINAL-URL:https://historicnv.org
X-WR-CALDESC:Events for Douglas County Historical Society
REFRESH-INTERVAL;VALUE=DURATION:PT1H
X-Robots-Tag:noindex
X-PUBLISHED-TTL:PT1H
BEGIN:VTIMEZONE
TZID:UTC
BEGIN:STANDARD
TZOFFSETFROM:+0000
TZOFFSETTO:+0000
TZNAME:UTC
DTSTART:20240101T000000
END:STANDARD
END:VTIMEZONE
BEGIN:VEVENT
DTSTART;TZID=UTC:20250405T110000
DTEND;TZID=UTC:20250405T150000
DTSTAMP:20260425T105942
CREATED:20241210T203526Z
LAST-MODIFIED:20250228T163109Z
UID:2204-1743850800-1743865200@historicnv.org
SUMMARY:Family Day at the Museum - Young Chautauqua Performances
DESCRIPTION:Saturday\, April 5\, 2025\, 11:00 a.m. to 3:00 p.m.\nPlease join us the Carson Valley Museum & Cultural Center as our Young Chautauquans perform a theatrical presentation that brings historical figures to life through costumed performances and monologues.  Following the performances there will be an Awards Ceremony and Reception.\n\n \nFun and Games for the kids\, Scavenger Hunt\, Find Gertie\, Kid’s Page and Museum Exhibits!\nFree Admission!
URL:https://historicnv.org/event/family-day-at-the-museum-young-chautauqua-performances/
LOCATION:CVM&CC
END:VEVENT
BEGIN:VEVENT
DTSTART;TZID=UTC:20250410T060000
DTEND;TZID=UTC:20250410T200000
DTSTAMP:20260425T105942
CREATED:20250401T193914Z
LAST-MODIFIED:20250401T193914Z
UID:2466-1744264800-1744315200@historicnv.org
SUMMARY:Heritage Lecture Series with Karen Dustman
DESCRIPTION:Thursday\, April 10\nPlease join us at the Carson Valley Museum & Cultural Center in Gardnerville\, NV as we welcome Karen Dustman who will be speaking about her books on the history\, lore and tales of the Carson Valley and surrounding communities\nDoors Open at 6:00 p.m. Lecture Begins at 6:30 p.m. $5.00 at the door.\nFree Admission to Alpine\, Dayton\, Smith Valley\, and DCHS Historical Society
URL:https://historicnv.org/event/heritage-lecture-series-with-karen-dustman/
LOCATION:CVM&CC
END:VEVENT
BEGIN:VEVENT
DTSTART;TZID=UTC:20250412T110000
DTEND;TZID=UTC:20250412T150000
DTSTAMP:20260425T105942
CREATED:20241213T190605Z
LAST-MODIFIED:20241213T190605Z
UID:2291-1744455600-1744470000@historicnv.org
SUMMARY:Monday Watercolor Collective Art Show Meet & Greet
DESCRIPTION:Monday Watercolor Art Show Meet & Greet\nSaturday\, April 12\, 2025\n⏰ Time: 11:00 AM – 3:00 PM\n📍 Location: Carson Valley Museum & Cultural Center\nJoin us for an inspiring afternoon of creativity and connection! Meet talented watercolor artists\, view their stunning works\, and gain insights into their creative processes. Plus\, take home a piece of the magic—artwork will be available for purchase!\nWhether you’re an art enthusiast or just looking for a delightful way to spend your Monday\, this event promises vibrant colors\, engaging conversations\, and the chance to own a unique masterpiece.\nAdmission is free\, and everyone is welcome. Don’t miss it!
URL:https://historicnv.org/event/monday-watercolor-collective-art-show-meet-greet/
LOCATION:CVM&CC
END:VEVENT
BEGIN:VEVENT
DTSTART;VALUE=DATE:20250414
DTEND;VALUE=DATE:20250419
DTSTAMP:20260425T105942
CREATED:20241213T191727Z
LAST-MODIFIED:20241213T191727Z
UID:2294-1744588800-1745020799@historicnv.org
SUMMARY:Monday Watercolor Collective Art Show
DESCRIPTION:🎨 Monday Watercolor Art Show\nMonday\, April 14 through Friday April 18\n11:00 a.m. – 3:00 p.m.\nCarson Valley Museum & Cultural Center\nJoin us for a vibrant showcase of stunning watercolor masterpieces by talented local artists. Explore an array of breathtaking artwork available for purchase—perfect for adding a splash of creativity to your home or office!\nDon’t miss this inspiring celebration of artistic expression. Whether you’re a collector or simply an art enthusiast\, the Monday Watercolor Art Show promises something for everyone.
URL:https://historicnv.org/event/monday-watercolor-collective-art-show/
LOCATION:CVM&CC
END:VEVENT
END:VCALENDAR