BEGIN:VCALENDAR
VERSION:2.0
PRODID:-//Douglas County Historical Society - ECPv6.15.17.1//NONSGML v1.0//EN
CALSCALE:GREGORIAN
METHOD:PUBLISH
X-WR-CALNAME:Douglas County Historical Society
X-ORIGINAL-URL:https://historicnv.org
X-WR-CALDESC:Events for Douglas County Historical Society
REFRESH-INTERVAL;VALUE=DURATION:PT1H
X-Robots-Tag:noindex
X-PUBLISHED-TTL:PT1H
BEGIN:VTIMEZONE
TZID:UTC
BEGIN:STANDARD
TZOFFSETFROM:+0000
TZOFFSETTO:+0000
TZNAME:UTC
DTSTART:20240101T000000
END:STANDARD
END:VTIMEZONE
BEGIN:VEVENT
DTSTART;TZID=UTC:20250802T110000
DTEND;TZID=UTC:20250802T150000
DTSTAMP:20260425T033706
CREATED:20241212T182358Z
LAST-MODIFIED:20250228T164358Z
UID:2230-1754132400-1754146800@historicnv.org
SUMMARY:Family Day at the Museum - Agricultural Day
DESCRIPTION:Saturday\, August 2\, 11:00 a.m. – 3:00 p.m.\nJoin us for an unforgettable experiences at our Agricultural Day\, featuring hands-on fun planting peas in a pod with Dennis Little outside on our front lawn. Perfect for all ages—come learn\, play\, and grow with us!  Inside the museum we will have our Family Day activities consisting of WNC Activities\, Scavenger Hunt\, Find Gertie\, Kid’s Page & Museum Exhibits!\nFree Admission!
URL:https://historicnv.org/event/family-day-at-the-museum-8/
LOCATION:CVM&CC
END:VEVENT
BEGIN:VEVENT
DTSTART;TZID=UTC:20250821T163000
DTEND;TZID=UTC:20250821T193000
DTSTAMP:20260425T033706
CREATED:20250109T194511Z
LAST-MODIFIED:20250109T194511Z
UID:2363-1755793800-1755804600@historicnv.org
SUMMARY:Third Thursday Wine Walk
DESCRIPTION:Third Thursday Wine Walk\nJoin us at the Carson Valley Museum & Cultural Center for the Third Thursday Wine Walk! Happening on the third Thursday of each month from May through September\, this event is your chance to sip and support our local downtown merchants and businesses\, enjoy delicious tastings\, and experience the charm of our community.\nThe walk runs from 4:30 to 7:30 p.m. – a perfect way to unwind\, connect\, and savor the evening. Cheers!
URL:https://historicnv.org/event/third-thursday-wine-walk-3/
LOCATION:CVM&CC
END:VEVENT
END:VCALENDAR